BEGIN:VCALENDAR
VERSION:2.0
PRODID:-//cosmeticaitalia.it//iCal Appuntamento Cosmeticaitalia
CALSCALE:GREGORIAN
BEGIN:VEVENT
DTSTAMP:20260421T151615
UID:20200929T103000_20260421T151615_appuntamenti_00263@cosmeticaitalia.it
DTSTART:20200929T103000
DTEND:20200929T123000
TZID:Europe/Rome
SUMMARY:Congiuntura, trend e mercati nel settore cosmetico Martedì 29 settembre
URL:https://www.cosmeticaitalia.it/appuntamenti/dettaglio/Congiuntura-trend-e-mercati-nel-settore-cosmeticobrMartedi-29-settembre/
DESCRIPTION:Industria cosmetica italiana: cosa raccontano i dati preconsuntivi sui primi sei mesi del 2020? Quali sono le previsioni per il secondo semestre nella ripresa post-Covid? Se ne è parlato via webinar in occasione del consueto appuntamento con la rilevazione congiunturale curata dal Centro Studi.
END:VEVENT
END:VCALENDAR

