BEGIN:VCALENDAR
VERSION:2.0
PRODID:-//cosmeticaitalia.it//iCal Appuntamento Cosmeticaitalia
CALSCALE:GREGORIAN
BEGIN:VEVENT
DTSTAMP:20260422T033106
UID:20250213T110000_20260422T033106_appuntamenti_00477@cosmeticaitalia.it
DTSTART:20250213T110000
DTEND:20250213T120000
TZID:Europe/Rome
SUMMARY:"Come l'Intelligenza Artificiale Generativa può potenziare la produttività aziendale"
URL:https://www.cosmeticaitalia.it/appuntamenti/dettaglio/Come-lIntelligenza-Artificiale-Generativa-puo-potenziare-la-produttivita-aziendale/
DESCRIPTION:Giovedì 13 febbraio Cosmetica Italia Servizi, in collaborazione con XChannel, ha organizzato un webinar gratuito volto a comprendere l'utilizzo dell'Intelligenza Artificiale come leva per incrementare la produttività aziendale.  
END:VEVENT
END:VCALENDAR

