BEGIN:VCALENDAR
VERSION:2.0
PRODID:-//cosmeticaitalia.it//iCal Appuntamento Cosmeticaitalia
CALSCALE:GREGORIAN
BEGIN:VEVENT
DTSTAMP:20260422T063901
UID:20250513T110000_20260422T063901_appuntamenti_00488@cosmeticaitalia.it
DTSTART:20250513T110000
DTEND:20250513T130000
TZID:Europe/Rome
SUMMARY:Cosmetica 2030: Nuovi orizzonti di comunicazione tra AI e Fake News
URL:https://www.cosmeticaitalia.it/appuntamenti/dettaglio/Cosmetica-2030-Nuovi-orizzonti-di-comunicazione-tra-AI-e-Fake-News/
DESCRIPTION:A seguito del grande interesse suscitato dal primo appuntamento, martedì 13 maggio (h.11/13) Cosmetica Italia Servizi ha organizzato un nuovo appuntamento dedicato ai temi di AI e Fake News nel settore cosmetico.
END:VEVENT
END:VCALENDAR

